BEGIN:VCALENDAR
VERSION:2.0
PRODID:-//Protectors of Animals - ECPv5.12.0//NONSGML v1.0//EN
CALSCALE:GREGORIAN
METHOD:PUBLISH
X-WR-CALNAME:Protectors of Animals
X-ORIGINAL-URL:https://poainc.org
X-WR-CALDESC:Events for Protectors of Animals
REFRESH-INTERVAL;VALUE=DURATION:PT1H
X-Robots-Tag:noindex
X-PUBLISHED-TTL:PT1H
BEGIN:VTIMEZONE
TZID:UTC
BEGIN:STANDARD
TZOFFSETFROM:+0000
TZOFFSETTO:+0000
TZNAME:UTC
DTSTART:20190101T000000
END:STANDARD
END:VTIMEZONE
BEGIN:VEVENT
DTSTART;TZID=UTC:20190515T180000
DTEND;TZID=UTC:20190515T200000
DTSTAMP:20260425T181338
CREATED:20190508T184303Z
LAST-MODIFIED:20190508T184303Z
UID:9913-1557943200-1557950400@poainc.org
SUMMARY:Flash Fundraiser for POA Furries
DESCRIPTION:You gotta eat\, right?\nWell\, what if you could eat well and donate to our cats & dogs at Protectors of Animals?\nWin win we think! \nThe cost is $34.99 for 3 meals – $10 is automatically donated to POA! \nJoin us May 15 @ 6pm and make three great meals to take home & enjoy when you want!\nYou can call 860- 645-1523\, or visit the web site and use Session Password: POA  \nhttp://dreamdinners.com/fundraiser/799628 \n 
URL:https://poainc.org/event/flash-fundraiser-for-poa-furries/
LOCATION:Dream Dinners Manchester\, 100 Tolland Tpke\, Unit 1B\, Manchester\, 06040\, United States
ATTACH;FMTTYPE=image/jpeg:https://poainc.org/wp-content/uploads/2019/05/POA-Dream-Dinners.jpg
GEO:41.8130901;-72.5101792
X-APPLE-STRUCTURED-LOCATION;VALUE=URI;X-ADDRESS=Dream Dinners Manchester 100 Tolland Tpke Unit 1B Manchester 06040 United States;X-APPLE-RADIUS=500;X-TITLE=100 Tolland Tpke\, Unit 1B:geo:-72.5101792,41.8130901
END:VEVENT
END:VCALENDAR