BEGIN:VCALENDAR
VERSION:2.0
PRODID:-//Protectors of Animals - ECPv5.12.0//NONSGML v1.0//EN
CALSCALE:GREGORIAN
METHOD:PUBLISH
X-WR-CALNAME:Protectors of Animals
X-ORIGINAL-URL:https://poainc.org
X-WR-CALDESC:Events for Protectors of Animals
REFRESH-INTERVAL;VALUE=DURATION:PT1H
X-Robots-Tag:noindex
X-PUBLISHED-TTL:PT1H
BEGIN:VTIMEZONE
TZID:UTC
BEGIN:STANDARD
TZOFFSETFROM:+0000
TZOFFSETTO:+0000
TZNAME:UTC
DTSTART:20200101T000000
END:STANDARD
END:VTIMEZONE
BEGIN:VEVENT
DTSTART;TZID=UTC:20200313T160000
DTEND;TZID=UTC:20200313T200000
DTSTAMP:20260421T180832
CREATED:20191220T233427Z
LAST-MODIFIED:20200312T170155Z
UID:14696-1584115200-1584129600@poainc.org
SUMMARY:Mark's Second Annual Northeast Motorsports Expo 3/14 through 3/16
DESCRIPTION:Cam Jammers will be in attendance at this event! Cam Jammers will be selling raffle tickets for an amazing peddle car to benefit POA!
URL:https://poainc.org/event/marks-second-annual-northeast-motorsports-expo-3-14-through-3-16/
LOCATION:Eastern States Exposition\, 1305 Memorial Ave\, West Springfield\, MA
CATEGORIES:Featured Event
ATTACH;FMTTYPE=image/jpeg:https://poainc.org/wp-content/uploads/2019/12/Cam-Jammers-Winter-Event.jpg
GEO:42.0911321;-72.6160879
X-APPLE-STRUCTURED-LOCATION;VALUE=URI;X-ADDRESS=Eastern States Exposition 1305 Memorial Ave West Springfield MA;X-APPLE-RADIUS=500;X-TITLE=1305 Memorial Ave:geo:-72.6160879,42.0911321
END:VEVENT
END:VCALENDAR