BEGIN:VCALENDAR
VERSION:2.0
PRODID:-//Protectors of Animals - ECPv5.12.0//NONSGML v1.0//EN
CALSCALE:GREGORIAN
METHOD:PUBLISH
X-WR-CALNAME:Protectors of Animals
X-ORIGINAL-URL:https://poainc.org
X-WR-CALDESC:Events for Protectors of Animals
REFRESH-INTERVAL;VALUE=DURATION:PT1H
X-Robots-Tag:noindex
X-PUBLISHED-TTL:PT1H
BEGIN:VTIMEZONE
TZID:UTC
BEGIN:STANDARD
TZOFFSETFROM:+0000
TZOFFSETTO:+0000
TZNAME:UTC
DTSTART:20190101T000000
END:STANDARD
END:VTIMEZONE
BEGIN:VEVENT
DTSTART;TZID=UTC:20190713T103000
DTEND;TZID=UTC:20190713T123000
DTSTAMP:20260421T160608
CREATED:20190621T204853Z
LAST-MODIFIED:20190621T204938Z
UID:10556-1563013800-1563021000@poainc.org
SUMMARY:Pet Adoption Event - Goodspeed Opera House
DESCRIPTION:Bill Berloni and a pair of his rescue dogs\, the canine stars of Goodspeed’s summer musical Because of Winn Dixie\, are partnering with rescues for a Pet Adoption Awareness event. Come on out and meet some of our adoptable dogs!
URL:https://poainc.org/event/pet-adoption-event-goodspeed-opera-house/
LOCATION:Goodspeed Opera House\, 6 Main St.\, East Haddan\, CT\, 06423
ATTACH;FMTTYPE=image/jpeg:https://poainc.org/wp-content/uploads/2019/06/Bill-Berloni-2.jpg
GEO:41.4517692;-72.4625672
X-APPLE-STRUCTURED-LOCATION;VALUE=URI;X-ADDRESS=Goodspeed Opera House 6 Main St. East Haddan CT 06423;X-APPLE-RADIUS=500;X-TITLE=6 Main St.:geo:-72.4625672,41.4517692
END:VEVENT
END:VCALENDAR