BEGIN:VCALENDAR
VERSION:2.0
PRODID:-//Protectors of Animals - ECPv5.12.0//NONSGML v1.0//EN
CALSCALE:GREGORIAN
METHOD:PUBLISH
X-WR-CALNAME:Protectors of Animals
X-ORIGINAL-URL:https://poainc.org
X-WR-CALDESC:Events for Protectors of Animals
REFRESH-INTERVAL;VALUE=DURATION:PT1H
X-Robots-Tag:noindex
X-PUBLISHED-TTL:PT1H
BEGIN:VTIMEZONE
TZID:UTC
BEGIN:STANDARD
TZOFFSETFROM:+0000
TZOFFSETTO:+0000
TZNAME:UTC
DTSTART:20250101T000000
END:STANDARD
END:VTIMEZONE
BEGIN:VEVENT
DTSTART;TZID=UTC:20250427T100000
DTEND;TZID=UTC:20250427T160000
DTSTAMP:20260423T145352
CREATED:20250331T162901Z
LAST-MODIFIED:20250331T162901Z
UID:42876-1745748000-1745769600@poainc.org
SUMMARY:Mill Street Marketplace Earth Day Adoption Event
DESCRIPTION:Mill Street Marketplace vendors are hosting an indoor and outdoor event to celebrate our planet Earth! POA will have a tent/table to share info\, raffle\, collect donations\, and be able to bring some adoptables to show them off. In kindness to the Earth\, there will be a vegan taco bar\, a vegan cookie stand and Caffeine Coven will be there with bevies. Vendors will bring farm fresh herbs\, flowers\, and upcycled/green items. Be sure to shop at POAs new section inside\, all proceeds from sales go back to POA!!
URL:https://poainc.org/event/mill-street-marketplace-earth-day-adoption-event/
LOCATION:Mill Street Marketplace\, 36 Mill Street\, Wethersfield\, CT
GEO:41.6904413;-72.6529892
X-APPLE-STRUCTURED-LOCATION;VALUE=URI;X-ADDRESS=Mill Street Marketplace 36 Mill Street Wethersfield CT;X-APPLE-RADIUS=500;X-TITLE=36 Mill Street:geo:-72.6529892,41.6904413
END:VEVENT
END:VCALENDAR