BEGIN:VCALENDAR
VERSION:2.0
PRODID:-//Protectors of Animals - ECPv5.12.0//NONSGML v1.0//EN
CALSCALE:GREGORIAN
METHOD:PUBLISH
X-WR-CALNAME:Protectors of Animals
X-ORIGINAL-URL:https://poainc.org
X-WR-CALDESC:Events for Protectors of Animals
REFRESH-INTERVAL;VALUE=DURATION:PT1H
X-Robots-Tag:noindex
X-PUBLISHED-TTL:PT1H
BEGIN:VTIMEZONE
TZID:UTC
BEGIN:STANDARD
TZOFFSETFROM:+0000
TZOFFSETTO:+0000
TZNAME:UTC
DTSTART:20190101T000000
END:STANDARD
END:VTIMEZONE
BEGIN:VEVENT
DTSTART;TZID=UTC:20190714T110000
DTEND;TZID=UTC:20190714T150000
DTSTAMP:20260425T121053
CREATED:20190612T200440Z
LAST-MODIFIED:20190612T200440Z
UID:10393-1563102000-1563116400@poainc.org
SUMMARY:Dog Meet & Greet - Pet Valu Cromwell
DESCRIPTION:Come out and meet our wonderful dogs who are available for adoption!
URL:https://poainc.org/event/dog-meet-greet-pet-valu-cromwell/
LOCATION:Pet Valu\, 51 Shunpike Rd.\, Cromwell\, CT\, 06416\, United States
ATTACH;FMTTYPE=image/jpeg:https://poainc.org/wp-content/uploads/2019/06/Sally.jpg
GEO:41.6048987;-72.6777238
X-APPLE-STRUCTURED-LOCATION;VALUE=URI;X-ADDRESS=Pet Valu 51 Shunpike Rd. Cromwell CT 06416 United States;X-APPLE-RADIUS=500;X-TITLE=51 Shunpike Rd.:geo:-72.6777238,41.6048987
END:VEVENT
END:VCALENDAR