BEGIN:VCALENDAR
VERSION:2.0
PRODID:-//Protectors of Animals - ECPv5.12.0//NONSGML v1.0//EN
CALSCALE:GREGORIAN
METHOD:PUBLISH
X-WR-CALNAME:Protectors of Animals
X-ORIGINAL-URL:https://poainc.org
X-WR-CALDESC:Events for Protectors of Animals
REFRESH-INTERVAL;VALUE=DURATION:PT1H
X-Robots-Tag:noindex
X-PUBLISHED-TTL:PT1H
BEGIN:VTIMEZONE
TZID:UTC
BEGIN:STANDARD
TZOFFSETFROM:+0000
TZOFFSETTO:+0000
TZNAME:UTC
DTSTART:20200101T000000
END:STANDARD
END:VTIMEZONE
BEGIN:VEVENT
DTSTART;TZID=UTC:20200208T100000
DTEND;TZID=UTC:20200208T130000
DTSTAMP:20260423T125355
CREATED:20180918T164452Z
LAST-MODIFIED:20201028T194513Z
UID:6203-1581156000-1581166800@poainc.org
SUMMARY:Dog Adoptions are Currently by Appointment Only
DESCRIPTION:How To Adopt – Adoptions Currently by Appointment Only
URL:https://poainc.org/event/dog-meet-greet-petco-middletown/2020-02-08/
LOCATION:Petco\, 816 Washington St.\, Middletown\, CT\, 06457\, United States
ATTACH;FMTTYPE=image/png:https://poainc.org/wp-content/uploads/2018/09/Chubbs5.png
ORGANIZER;CN="Protectors%20of%20Animals%2C%20Inc.":MAILTO:jessica.sokol@poainc.org
GEO:41.5563222;-72.6805543
X-APPLE-STRUCTURED-LOCATION;VALUE=URI;X-ADDRESS=Petco 816 Washington St. Middletown CT 06457 United States;X-APPLE-RADIUS=500;X-TITLE=816 Washington St.:geo:-72.6805543,41.5563222
END:VEVENT
END:VCALENDAR