BEGIN:VCALENDAR
VERSION:2.0
PRODID:-//Protectors of Animals - ECPv5.12.0//NONSGML v1.0//EN
CALSCALE:GREGORIAN
METHOD:PUBLISH
X-WR-CALNAME:Protectors of Animals
X-ORIGINAL-URL:https://poainc.org
X-WR-CALDESC:Events for Protectors of Animals
REFRESH-INTERVAL;VALUE=DURATION:PT1H
X-Robots-Tag:noindex
X-PUBLISHED-TTL:PT1H
BEGIN:VTIMEZONE
TZID:UTC
BEGIN:STANDARD
TZOFFSETFROM:+0000
TZOFFSETTO:+0000
TZNAME:UTC
DTSTART:20190101T000000
END:STANDARD
END:VTIMEZONE
BEGIN:VEVENT
DTSTART;TZID=UTC:20190504T093000
DTEND;TZID=UTC:20190504T150000
DTSTAMP:20260422T101705
CREATED:20190214T181840Z
LAST-MODIFIED:20190214T181840Z
UID:8806-1556962200-1556982000@poainc.org
SUMMARY:Paws in the Park
DESCRIPTION:The South Windsor Jaycees will be holding their annual “Paws in the Park” event from 9:30am to 3:00pm on Saturday\, May 4th and POA will be a part of it!  Paws in the Park is a fun-filled\, dog-friendly (and family-friendly!) event that raises awareness about canine shelter and rescue groups! With 150+ vendors and great food trucks\, its an event that the whole family will enjoy! Come on out to meet POA dogs available for adoption and enjoy a lovely day at the park! \n 
URL:https://poainc.org/event/paws-in-the-park/
LOCATION:Wapping Fairgrounds\, 75 Brookfield St.\, South Windsor\, CT\, United States
ATTACH;FMTTYPE=image/jpeg:https://poainc.org/wp-content/uploads/2019/02/paws-in-the-Park.jpg
GEO:41.8549143;-72.5711825
X-APPLE-STRUCTURED-LOCATION;VALUE=URI;X-ADDRESS=Wapping Fairgrounds 75 Brookfield St. South Windsor CT United States;X-APPLE-RADIUS=500;X-TITLE=75 Brookfield St.:geo:-72.5711825,41.8549143
END:VEVENT
END:VCALENDAR